BEGIN:VCALENDAR
VERSION:2.0
PRODID:-//ddaysoftware.com//NONSGML DDay.iCal 1.0//EN
BEGIN:VEVENT
DESCRIPTION:
DTEND:20260430T131500
DTSTAMP:20260425T151119
DTSTART:20260128T120000
LOCATION:Maggiano's Banquets\, 111 W. Grand Avenue\, Chicago\, IL 60654
SEQUENCE:0
SUMMARY:Gia Biagi\, Secretary\, Illinois Department of Transportation
UID:bb6be0ca-a407-4d14-bdd5-7e3fde39f237
END:VEVENT
END:VCALENDAR
